BEGIN:VCALENDAR
VERSION:2.0
PRODID:-//Nutrition by Laurann - ECPv4.6.2//NONSGML v1.0//EN
CALSCALE:GREGORIAN
METHOD:PUBLISH
X-WR-CALNAME:Nutrition by Laurann
X-ORIGINAL-URL:http://nutritionbylaurann.ie
X-WR-CALDESC:Events for Nutrition by Laurann
BEGIN:VEVENT
DTSTART;TZID=UTC+0:20170204T140000
DTEND;TZID=UTC+0:20170204T160000
DTSTAMP:20171109T003701
CREATED:20170215T232709Z
LAST-MODIFIED:20170215T232825Z
UID:4331-1486216800-1486224000@nutritionbylaurann.ie
SUMMARY:Your Digestive Health & Food Intolerances - Nutritionist Talk
DESCRIPTION:Do you suffer from any of the following?\n\nSinusitus\nIndigestion\nTiredness/Fatigue\nIrritable Bowel\nStomach Complaints\nAcne/Psorisis/ Eczema/Skin Problems\nUnexplained Weight Loss/Gain\nAsthma\nStiffness/Aching Joints\nDepression/Tension\n\nCome along to our free talk with qualified nutritionist Laurann O&#8217;Reilly and find out how you can improve your digestive and overall health \n  \n\n	\n		REGISTER NOW\n\n
URL:http://nutritionbylaurann.ie/event/digestive-health-food-intolerances-nutritionist-talk-2/
LOCATION:49 Ranelagh Road\, Dublin\, Dublin\, Ireland
CATEGORIES:Clinics
ATTACH;FMTTYPE=image/jpeg:http://nutritionbylaurann.ie/wp-content/uploads/2016/12/event-imag.jpg
END:VEVENT
END:VCALENDAR